BEGIN:VCALENDAR
VERSION:2.0
PRODID:SchoolNow
CALSCALE:GREGORIAN
BEGIN:VEVENT
UID:6d1561f6-ea52-11f0-b2c9-0a58a9feac02
DTSTAMP:20260424T035548Z
SUMMARY:HS Exam Period 1
URL;VALUE=URI:https://www.fieldlocalschools.org/fhs/calendar/8828824/hs-exa
 m-period-1
DTSTART:20260113T125500Z
DTEND:20260113T135500Z
END:VEVENT
END:VCALENDAR
