BEGIN:VCALENDAR
VERSION:2.0
PRODID:SchoolNow
CALSCALE:GREGORIAN
BEGIN:VEVENT
UID:6d1560e8-ea52-11f0-8d35-0a58a9feac02
DTSTAMP:20260424T035548Z
SUMMARY:HS Exam Make Up
URL;VALUE=URI:https://www.fieldlocalschools.org/fhs/calendar/8828823/hs-exa
 m-make-up
DTSTART:20260115T150500Z
DTEND:20260115T160500Z
END:VEVENT
END:VCALENDAR
