BEGIN:VCALENDAR
VERSION:2.0
PRODID:SchoolNow
CALSCALE:GREGORIAN
BEGIN:VEVENT
UID:6d155f80-ea52-11f0-b4bc-0a58a9feac02
DTSTAMP:20260424T035548Z
SUMMARY:HS Exam Period 2
URL;VALUE=URI:https://www.fieldlocalschools.org/fhs/calendar/8828822/hs-exa
 m-period-2
DTSTART:20260113T140000Z
DTEND:20260113T150000Z
END:VEVENT
END:VCALENDAR
