BEGIN:VCALENDAR
VERSION:2.0
PRODID:SchoolNow
CALSCALE:GREGORIAN
BEGIN:VEVENT
UID:6d155d64-ea52-11f0-8992-0a58a9feac02
DTSTAMP:20260424T035548Z
SUMMARY:HS Exam Period 7
URL;VALUE=URI:https://www.fieldlocalschools.org/fhs/calendar/8828821/hs-exa
 m-period-7
DTSTART:20260115T125500Z
DTEND:20260115T135500Z
END:VEVENT
END:VCALENDAR
