BEGIN:VCALENDAR
VERSION:2.0
PRODID:SchoolNow
CALSCALE:GREGORIAN
BEGIN:VEVENT
UID:6d155a58-ea52-11f0-a90d-0a58a9feac02
DTSTAMP:20260424T035548Z
SUMMARY:HS Exam Period 6
URL;VALUE=URI:https://www.fieldlocalschools.org/fhs/calendar/8828820/hs-exa
 m-period-6
DTSTART:20260114T150500Z
DTEND:20260114T160500Z
END:VEVENT
END:VCALENDAR
