BEGIN:VCALENDAR
VERSION:2.0
PRODID:SchoolNow
CALSCALE:GREGORIAN
BEGIN:VEVENT
UID:89b71288-a483-11f0-bd02-026c3a91a70f
DTSTAMP:20260423T215058Z
SUMMARY:Career Day Expo in Gym
URL;VALUE=URI:https://www.fieldlocalschools.org/fhs/calendar/8706426/career
 -day-expo-in-gym
DTSTART;VALUE=DATE:20260401
DTEND;VALUE=DATE:20260402
END:VEVENT
END:VCALENDAR
