BEGIN:VCALENDAR
VERSION:2.0
PRODID:SchoolNow
CALSCALE:GREGORIAN
BEGIN:VEVENT
UID:b8938138-8d02-11f0-90cb-0a58a9feac02
DTSTAMP:20260423T215058Z
SUMMARY:HS Musical@7:00 p.m.
URL;VALUE=URI:https://www.fieldlocalschools.org/fhs/calendar/8596812/hs-mus
 ical-7-00-p-m
DTSTART;VALUE=DATE:20260501
DTEND;VALUE=DATE:20260502
END:VEVENT
END:VCALENDAR
