BEGIN:VCALENDAR
VERSION:2.0
PRODID:SchoolNow
CALSCALE:GREGORIAN
BEGIN:VEVENT
UID:16f40660-7252-11f0-885e-0affc2082557
DTSTAMP:20260423T215058Z
SUMMARY:HS Choir Spring Concert
URL;VALUE=URI:https://www.fieldlocalschools.org/fhs/calendar/8474153/hs-cho
 ir-spring-concert
DTSTART:20260520T230000Z
DTEND:20260521T003000Z
END:VEVENT
END:VCALENDAR
