BEGIN:VCALENDAR
VERSION:2.0
PRODID:SchoolNow
CALSCALE:GREGORIAN
BEGIN:VEVENT
UID:16f4057a-7252-11f0-9f9d-0affc2082557
DTSTAMP:20260423T215058Z
SUMMARY:HS Symphonic Band Pops Concert
URL;VALUE=URI:https://www.fieldlocalschools.org/fhs/calendar/8474152/hs-sym
 phonic-band-pops-concert
DTSTART:20260507T230000Z
DTEND:20260508T003000Z
END:VEVENT
END:VCALENDAR
