BEGIN:VCALENDAR
VERSION:2.0
PRODID:SchoolNow
CALSCALE:GREGORIAN
BEGIN:VEVENT
UID:16f40480-7252-11f0-905c-0affc2082557
DTSTAMP:20260423T215058Z
SUMMARY:HS Large Group Band Contest
URL;VALUE=URI:https://www.fieldlocalschools.org/fhs/calendar/8474151/hs-lar
 ge-group-band-contest
DTSTART;VALUE=DATE:20260306
DTEND;VALUE=DATE:20260308
END:VEVENT
END:VCALENDAR
