BEGIN:VCALENDAR
VERSION:2.0
PRODID:SchoolNow
CALSCALE:GREGORIAN
BEGIN:VEVENT
UID:16f40386-7252-11f0-a2fe-0affc2082557
DTSTAMP:20260423T215058Z
SUMMARY:HS/8th Grade Combined Band Concert
URL;VALUE=URI:https://www.fieldlocalschools.org/fhs/calendar/8474150/hs-8th
 -grade-combined-band-concert
DTSTART:20260306T000000Z
DTEND:20260306T013000Z
END:VEVENT
END:VCALENDAR
