BEGIN:VCALENDAR
VERSION:2.0
PRODID:SchoolNow
CALSCALE:GREGORIAN
BEGIN:VEVENT
UID:16f40282-7252-11f0-8420-0affc2082557
DTSTAMP:20260424T035548Z
SUMMARY:HS Solo and Ensemble
URL;VALUE=URI:https://www.fieldlocalschools.org/fhs/calendar/8474149/hs-sol
 o-and-ensemble
DTSTART;VALUE=DATE:20260117
DTEND;VALUE=DATE:20260118
END:VEVENT
END:VCALENDAR
