BEGIN:VCALENDAR
VERSION:2.0
PRODID:SchoolNow
CALSCALE:GREGORIAN
BEGIN:VEVENT
UID:75a0a682-84b4-11ef-b6de-0a58a9feac02
DTSTAMP:20260423T215058Z
SUMMARY:Commencement (E.J. Thomas Hall)
URL;VALUE=URI:https://www.fieldlocalschools.org/fhs/calendar/6776505/commen
 cement-e-j-thomas-hall
DTSTART:20260601T233000Z
DTEND:20260602T010000Z
END:VEVENT
END:VCALENDAR
