BEGIN:VCALENDAR
VERSION:2.0
PRODID:SchoolNow
CALSCALE:GREGORIAN
BEGIN:VEVENT
UID:58247a46-b92d-11ee-ac6d-0a4dc413eed9
DTSTAMP:20240122T135129Z
SUMMARY:Board Meeting
LOCATION:FHS Cafeteria
URL;VALUE=URI:https://www.fieldlocalschools.org/calendar/5192455/board-meet
 ing
DTSTART:20240513T230000Z
DTEND:20240514T000000Z
END:VEVENT
END:VCALENDAR
