BEGIN:VCALENDAR
VERSION:2.0
PRODID:SchoolNow
CALSCALE:GREGORIAN
BEGIN:VEVENT
UID:3fbd28fe-b92d-11ee-8f46-0a58a9feac02
DTSTAMP:20240122T135048Z
SUMMARY:Board Meeting
LOCATION:FHS Cafeteria
URL;VALUE=URI:https://www.fieldlocalschools.org/calendar/5192454/board-meet
 ing
DTSTART:20240415T230000Z
DTEND:20240416T000000Z
END:VEVENT
END:VCALENDAR
