BEGIN:VCALENDAR
VERSION:2.0
PRODID:SchoolNow
CALSCALE:GREGORIAN
BEGIN:VEVENT
UID:298dfe46-b92d-11ee-9127-0a58a9feac02
DTSTAMP:20240122T135011Z
SUMMARY:Board Meeting
LOCATION:FHS Cafeteria
URL;VALUE=URI:https://www.fieldlocalschools.org/calendar/5192453/board-meet
 ing
DTSTART:20240311T230000Z
DTEND:20240312T000000Z
END:VEVENT
END:VCALENDAR
