BEGIN:VCALENDAR
VERSION:2.0
PRODID:SchoolNow
CALSCALE:GREGORIAN
BEGIN:VEVENT
UID:01cada6e-b92d-11ee-a720-0a58a9feac02
DTSTAMP:20240122T134904Z
SUMMARY:Board Meeting
LOCATION:FHS Cafeteria
URL;VALUE=URI:https://www.fieldlocalschools.org/calendar/5192452/board-meet
 ing
DTSTART:20240131T000000Z
DTEND:20240131T010000Z
END:VEVENT
END:VCALENDAR
