BEGIN:VCALENDAR
VERSION:2.0
PRODID:SchoolNow
CALSCALE:GREGORIAN
BEGIN:VEVENT
UID:6acf59fa-b92c-11ee-bf39-0a58a9feac02
DTSTAMP:20240122T134451Z
SUMMARY:Board Meeting
LOCATION:Falcon Conference Room\, FHS
URL;VALUE=URI:https://www.fieldlocalschools.org/calendar/5192450/board-meet
 ing
DTSTART:20240124T230000Z
DTEND:20240125T000000Z
END:VEVENT
END:VCALENDAR
