BEGIN:VCALENDAR
VERSION:2.0
PRODID:SchoolNow
CALSCALE:GREGORIAN
BEGIN:VEVENT
UID:d2a8ccaa-f2eb-11f0-8343-0a58a9feac02
DTSTAMP:20260116T145831Z
SUMMARY:Board Meeting
LOCATION:FHS Cafeteria unless otherwise noted on the Board Meeting webpage
URL;VALUE=URI:https://www.fieldlocalschools.org/about-us/calendar/8836983/b
 oard-meeting-clone-clone-clone-clone-clone-clone-clone-clone-clone-clone
DTSTART:20261214T234500Z
DTEND:20261215T004500Z
END:VEVENT
END:VCALENDAR
