BEGIN:VCALENDAR
VERSION:2.0
PRODID:SchoolNow
CALSCALE:GREGORIAN
BEGIN:VEVENT
UID:ccec839c-f2eb-11f0-8c37-0e0325d27b43
DTSTAMP:20260116T145821Z
SUMMARY:Board Meeting
LOCATION:FHS Cafeteria unless otherwise noted on the Board Meeting webpage
URL;VALUE=URI:https://www.fieldlocalschools.org/about-us/calendar/8836982/b
 oard-meeting-clone-clone-clone-clone-clone-clone-clone-clone-clone
DTSTART:20261123T234500Z
DTEND:20261124T004500Z
END:VEVENT
END:VCALENDAR
