BEGIN:VCALENDAR
VERSION:2.0
PRODID:SchoolNow
CALSCALE:GREGORIAN
BEGIN:VEVENT
UID:bf06ef7e-f2eb-11f0-ad08-0a58a9feac02
DTSTAMP:20260116T145758Z
SUMMARY:Board Meeting
LOCATION:FHS Cafeteria unless otherwise noted on the Board Meeting webpage
URL;VALUE=URI:https://www.fieldlocalschools.org/about-us/calendar/8836980/b
 oard-meeting-clone-clone-clone-clone-clone-clone-clone
DTSTART:20260914T224500Z
DTEND:20260914T234500Z
END:VEVENT
END:VCALENDAR
