BEGIN:VCALENDAR
VERSION:2.0
PRODID:SchoolNow
CALSCALE:GREGORIAN
BEGIN:VEVENT
UID:f7990720-c4a9-11f0-a605-0e88fdb0586f
DTSTAMP:20251118T181113Z
SUMMARY:Last Day for Teachers
URL;VALUE=URI:https://www.fieldlocalschools.org/about-us/calendar/8801927/l
 ast-day-for-teachers
DTSTART;VALUE=DATE:20260605
DTEND;VALUE=DATE:20260606
END:VEVENT
END:VCALENDAR
