BEGIN:VCALENDAR
VERSION:2.0
PRODID:SchoolNow
CALSCALE:GREGORIAN
BEGIN:VEVENT
UID:e2c76c74-c4a9-11f0-a9e2-0e20a12667a5
DTSTAMP:20260409T165447Z
SUMMARY:Last Day for Students-Early Dismissal
URL;VALUE=URI:https://www.fieldlocalschools.org/about-us/calendar/8801922/l
 ast-day-for-students-early-dismissal
DTSTART;VALUE=DATE:20260605
DTEND;VALUE=DATE:20260606
END:VEVENT
END:VCALENDAR
