BEGIN:VCALENDAR
VERSION:2.0
PRODID:SchoolNow
CALSCALE:GREGORIAN
BEGIN:VEVENT
UID:a9ba9f96-c4a9-11f0-968b-0e20a12667a5
DTSTAMP:20251118T180947Z
SUMMARY:End of 4th Quarter
URL;VALUE=URI:https://www.fieldlocalschools.org/about-us/calendar/8801917/e
 nd-of-4th-quarter
DTSTART;VALUE=DATE:20260604
DTEND;VALUE=DATE:20260605
END:VEVENT
END:VCALENDAR
