BEGIN:VCALENDAR
VERSION:2.0
PRODID:SchoolNow
CALSCALE:GREGORIAN
BEGIN:VEVENT
UID:9459fbb0-c4a9-11f0-a10b-0e057718bc59
DTSTAMP:20251118T180826Z
SUMMARY:No School-Memorial Day
URL;VALUE=URI:https://www.fieldlocalschools.org/about-us/calendar/8801911/n
 o-school-memorial-day
DTSTART;VALUE=DATE:20260505
DTEND;VALUE=DATE:20260506
END:VEVENT
END:VCALENDAR
