BEGIN:VCALENDAR
VERSION:2.0
PRODID:SchoolNow
CALSCALE:GREGORIAN
BEGIN:VEVENT
UID:6e3b9e52-c4a9-11f0-b8f8-0a58a9feac02
DTSTAMP:20251118T180722Z
SUMMARY:No School-Election Day/Professional Development
URL;VALUE=URI:https://www.fieldlocalschools.org/about-us/calendar/8801902/n
 o-school-election-day-professional-development
DTSTART;VALUE=DATE:20260505
DTEND;VALUE=DATE:20260506
END:VEVENT
END:VCALENDAR
