BEGIN:VCALENDAR
VERSION:2.0
PRODID:SchoolNow
CALSCALE:GREGORIAN
BEGIN:VEVENT
UID:5ab07d1c-c4a9-11f0-aa01-0affc38c0b45
DTSTAMP:20251118T180649Z
SUMMARY:No School
URL;VALUE=URI:https://www.fieldlocalschools.org/about-us/calendar/8801901/n
 o-school
DTSTART;VALUE=DATE:20260406
DTEND;VALUE=DATE:20260407
END:VEVENT
END:VCALENDAR
