BEGIN:VCALENDAR
VERSION:2.0
PRODID:SchoolNow
CALSCALE:GREGORIAN
BEGIN:VEVENT
UID:07b5160e-c4a9-11f0-9003-0a58a9feac02
DTSTAMP:20251118T180430Z
SUMMARY:No School-Good Friday
URL;VALUE=URI:https://www.fieldlocalschools.org/about-us/calendar/8801895/n
 o-school-good-friday
DTSTART;VALUE=DATE:20260403
DTEND;VALUE=DATE:20260404
END:VEVENT
END:VCALENDAR
