BEGIN:VCALENDAR
VERSION:2.0
PRODID:SchoolNow
CALSCALE:GREGORIAN
BEGIN:VEVENT
UID:e421d222-c4a8-11f0-bc92-029f6d02c50d
DTSTAMP:20251118T180330Z
SUMMARY:End of 3rd Quarter
URL;VALUE=URI:https://www.fieldlocalschools.org/about-us/calendar/8801890/e
 nd-of-3rd-quarter
DTSTART;VALUE=DATE:20260402
DTEND;VALUE=DATE:20260403
END:VEVENT
END:VCALENDAR
