BEGIN:VCALENDAR
VERSION:2.0
PRODID:SchoolNow
CALSCALE:GREGORIAN
BEGIN:VEVENT
UID:c4ec871c-c4a8-11f0-87a0-0a58a9feac02
DTSTAMP:20251118T180238Z
SUMMARY:No School-Spring Break
URL;VALUE=URI:https://www.fieldlocalschools.org/about-us/calendar/8801885/n
 o-school-spring-break
DTSTART;VALUE=DATE:20260323
DTEND;VALUE=DATE:20260328
END:VEVENT
END:VCALENDAR
