BEGIN:VCALENDAR
VERSION:2.0
PRODID:SchoolNow
CALSCALE:GREGORIAN
BEGIN:VEVENT
UID:9bfcc6e6-c4a8-11f0-8c03-0a58a9feac02
DTSTAMP:20251118T180129Z
SUMMARY:No School-Presidents' Day
URL;VALUE=URI:https://www.fieldlocalschools.org/about-us/calendar/8801880/n
 o-school-presidents-day
DTSTART;VALUE=DATE:20260216
DTEND;VALUE=DATE:20260217
END:VEVENT
END:VCALENDAR
