BEGIN:VCALENDAR
VERSION:2.0
PRODID:SchoolNow
CALSCALE:GREGORIAN
BEGIN:VEVENT
UID:803b46ee-c4a8-11f0-a1cc-0e20a12667a5
DTSTAMP:20251118T180043Z
SUMMARY:No School-Comp Day
URL;VALUE=URI:https://www.fieldlocalschools.org/about-us/calendar/8801875/n
 o-school-comp-day
DTSTART;VALUE=DATE:20260213
DTEND;VALUE=DATE:20260214
END:VEVENT
END:VCALENDAR
