BEGIN:VCALENDAR
VERSION:2.0
PRODID:SchoolNow
CALSCALE:GREGORIAN
BEGIN:VEVENT
UID:6438540a-c4a8-11f0-a4e9-0a58a9feac02
DTSTAMP:20251118T175956Z
SUMMARY:No School-Professional Development
URL;VALUE=URI:https://www.fieldlocalschools.org/about-us/calendar/8801870/n
 o-school-professional-development
DTSTART;VALUE=DATE:20260212
DTEND;VALUE=DATE:20260213
END:VEVENT
END:VCALENDAR
