BEGIN:VCALENDAR
VERSION:2.0
PRODID:SchoolNow
CALSCALE:GREGORIAN
BEGIN:VEVENT
UID:3d9b1a76-c4a8-11f0-b384-0e20a12667a5
DTSTAMP:20251118T175851Z
SUMMARY:Conferences PM
URL;VALUE=URI:https://www.fieldlocalschools.org/about-us/calendar/8801865/c
 onferences-pm
DTSTART:20260205T210000Z
DTEND:20260206T003000Z
END:VEVENT
END:VCALENDAR
