BEGIN:VCALENDAR
VERSION:2.0
PRODID:SchoolNow
CALSCALE:GREGORIAN
BEGIN:VEVENT
UID:0aed2786-c4a8-11f0-ab8f-0e88fdb0586f
DTSTAMP:20251118T175726Z
SUMMARY:Conferences PM
URL;VALUE=URI:https://www.fieldlocalschools.org/about-us/calendar/8801860/c
 onferences-pm
DTSTART:20260129T210000Z
DTEND:20260130T003000Z
END:VEVENT
END:VCALENDAR
