BEGIN:VCALENDAR
VERSION:2.0
PRODID:SchoolNow
CALSCALE:GREGORIAN
BEGIN:VEVENT
UID:e90a40c2-c4a7-11f0-9d02-0a58a9feac02
DTSTAMP:20251118T175629Z
SUMMARY:No School-MLK Day
URL;VALUE=URI:https://www.fieldlocalschools.org/about-us/calendar/8801855/n
 o-school-mlk-day
DTSTART;VALUE=DATE:20260119
DTEND;VALUE=DATE:20260120
END:VEVENT
END:VCALENDAR
