BEGIN:VCALENDAR
VERSION:2.0
PRODID:SchoolNow
CALSCALE:GREGORIAN
BEGIN:VEVENT
UID:a5c87f18-c4a7-11f0-831f-0a58a9feac02
DTSTAMP:20251118T175436Z
SUMMARY:End of 2nd Quarter
URL;VALUE=URI:https://www.fieldlocalschools.org/about-us/calendar/8801845/e
 nd-of-2nd-quarter
DTSTART;VALUE=DATE:20260116
DTEND;VALUE=DATE:20260117
END:VEVENT
END:VCALENDAR
