BEGIN:VCALENDAR
VERSION:2.0
PRODID:SchoolNow
CALSCALE:GREGORIAN
BEGIN:VEVENT
UID:eae97932-c4a5-11f0-ac82-0affc609c813
DTSTAMP:20251118T174213Z
SUMMARY:Students Return from Winter Break
URL;VALUE=URI:https://www.fieldlocalschools.org/about-us/calendar/8801840/s
 tudents-return-from-winter-break
DTSTART;VALUE=DATE:20260105
DTEND;VALUE=DATE:20260106
END:VEVENT
END:VCALENDAR
