BEGIN:VCALENDAR
VERSION:2.0
PRODID:SchoolNow
CALSCALE:GREGORIAN
BEGIN:VEVENT
UID:c61d8bac-c4a5-11f0-b433-0afffa06ec9d
DTSTAMP:20251118T174139Z
SUMMARY:Festive Falcon Vendor Fair at MS
URL;VALUE=URI:https://www.fieldlocalschools.org/about-us/calendar/8801835/f
 estive-falcon-vendor-fair
DTSTART:20251206T140000Z
DTEND:20251206T200000Z
END:VEVENT
END:VCALENDAR
