BEGIN:VCALENDAR
VERSION:2.0
PRODID:SchoolNow
CALSCALE:GREGORIAN
BEGIN:VEVENT
UID:7138144a-c4a5-11f0-96ab-0a58a9feac02
DTSTAMP:20251118T173849Z
SUMMARY:No School Winter Break
URL;VALUE=URI:https://www.fieldlocalschools.org/about-us/calendar/8801829/n
 o-school-thanksgiving-break-clone
DTSTART;VALUE=DATE:20251222
DTEND;VALUE=DATE:20260103
END:VEVENT
END:VCALENDAR
