BEGIN:VCALENDAR
VERSION:2.0
PRODID:SchoolNow
CALSCALE:GREGORIAN
BEGIN:VEVENT
UID:c66d47b0-c4a4-11f0-ac58-0a58a9feac02
DTSTAMP:20251118T173403Z
SUMMARY:No School Thanksgiving Break
URL;VALUE=URI:https://www.fieldlocalschools.org/about-us/calendar/8801823/n
 o-school-thanksgiving-break
DTSTART;VALUE=DATE:20251126
DTEND;VALUE=DATE:20251202
END:VEVENT
END:VCALENDAR
